BEGIN:VCALENDAR
VERSION:2.0
PRODID:-//ChamberMaster//Event Calendar 2.0//EN
METHOD:PUBLISH
X-PUBLISHED-TTL:P3D
REFRESH-INTERVAL:P3D
CALSCALE:GREGORIAN
BEGIN:VEVENT
DTSTART:20261011T000000Z
DTEND:20261011T040000Z
X-MICROSOFT-CDO-ALLDAYEVENT:FALSE
SUMMARY:Taste of Santa Ana 2026
DESCRIPTION:
X-ALT-DESC;FMTTYPE=text/html:
LOCATION:MainPlace Mall parking lot off Main Street\, near Macy's 2800 North Main St. Santa Ana\, CA 92705
UID:e.2848.4350
SEQUENCE:3
DTSTAMP:20260424T085220Z
URL:https://santaanachamber.com/events/details/taste-of-santa-ana-2026-4350
END:VEVENT

END:VCALENDAR
