BEGIN:VCALENDAR
VERSION:2.0
PRODID:-//ChamberMaster//Event Calendar 2.0//EN
METHOD:PUBLISH
X-PUBLISHED-TTL:P3D
REFRESH-INTERVAL:P3D
CALSCALE:GREGORIAN
BEGIN:VEVENT
DTSTART:20260724T000000Z
DTEND:20260724T020000Z
X-MICROSOFT-CDO-ALLDAYEVENT:FALSE
SUMMARY:Schmooza Palooza Business Expo 2026
DESCRIPTION:
X-ALT-DESC;FMTTYPE=text/html:
LOCATION:South Coast Village - Courtyard (Behind the Corner Bakery) 1621 W Sunflower Ave Santa Ana\, CA 92704
UID:e.2848.4349
SEQUENCE:3
DTSTAMP:20260424T104502Z
URL:https://santaanachamber.com/events/details/schmooza-palooza-business-expo-2026-4349
END:VEVENT

END:VCALENDAR
