BEGIN:VCALENDAR
VERSION:2.0
PRODID:-//ChamberMaster//Event Calendar 2.0//EN
METHOD:PUBLISH
X-PUBLISHED-TTL:P3D
REFRESH-INTERVAL:P3D
CALSCALE:GREGORIAN
BEGIN:VEVENT
DTSTART:20260504T170000Z
DTEND:20260504T183000Z
X-MICROSOFT-CDO-ALLDAYEVENT:FALSE
SUMMARY:Samueli Academy - Career Exploration Tour
DESCRIPTION:Four times a year\, Samueli Academy 9th graders are bused to different companies to explore career options and learn more about the world of work. Samueli Academy invites you to host around 20 9th graders for a company tour! You will have the opportunity to educate them on the different positions at your company\, average day-in-the-life\, and offer advice on how to enter your field.\n\n\n\nScan the QR code to be connected to Oscar Reyes\, Samueli Academy's Work-Based Learning Coordinator to learn more.
X-ALT-DESC;FMTTYPE=text/html:<span style="background-color:rgb(255\, 255\, 255)\; color:rgb(51\, 51\, 51)\; font-family:sans-serif\,arial\,verdana\,trebuchet ms\; font-size:13px">Four times a year\, Samueli Academy 9th graders are bused to different companies to explore career options and learn more about the world of work. Samueli Academy invites you to host around 20 9th graders for a company tour! You will have the opportunity to educate them on the different positions at your company\, average day-in-the-life\, and offer advice on how to enter your field.</span><br />\n<br />\n<span style="background-color:rgb(255\, 255\, 255)\; color:rgb(51\, 51\, 51)\; font-family:sans-serif\,arial\,verdana\,trebuchet ms\; font-size:13px">Scan the QR code to be connected to Oscar Reyes\, Samueli Academy&#39\;s Work-Based Learning Coordinator to learn more.&nbsp\;</span>
LOCATION:
UID:e.2848.4318
SEQUENCE:3
DTSTAMP:20260424T115523Z
URL:https://santaanachamber.com/events/details/samueli-academy-career-exploration-tour-05-04-2026-4318
END:VEVENT

END:VCALENDAR
