BEGIN:VCALENDAR
VERSION:2.0
PRODID:-//ChamberMaster//Event Calendar 2.0//EN
METHOD:PUBLISH
X-PUBLISHED-TTL:P3D
REFRESH-INTERVAL:P3D
CALSCALE:GREGORIAN
BEGIN:VEVENT
DTSTART:20260806T180000Z
DTEND:20260806T201500Z
X-MICROSOFT-CDO-ALLDAYEVENT:FALSE
SUMMARY:2026 State of the City
DESCRIPTION:
X-ALT-DESC;FMTTYPE=text/html:
LOCATION:Templo Calvario
UID:e.2848.4348
SEQUENCE:3
DTSTAMP:20260424T065744Z
URL:https://santaanachamber.com/events/details/2026-state-of-the-city-4348
END:VEVENT

END:VCALENDAR
